BEGIN:VCALENDAR
CALSCALE:GREGORIAN
X-WR-TIMEZONE;VALUE=TEXT:GMT
PRODID:PEAK Corporation - piCal -
X-WR-CALNAME;VALUE=TEXT:MACC Attack - Birmingham, AL
VERSION:2.0
METHOD:PUBLISH
BEGIN:VTIMEZONE
TZID:GMT
BEGIN:STANDARD
DTSTART:19390101T000000
TZOFFSETFROM:+0000
TZOFFSETTO:+0000
TZNAME:GMT
END:STANDARD
END:VTIMEZONE
BEGIN:VEVENT
DTSTART;VALUE=DATE:20080307
DTEND;VALUE=DATE:20080309
LOCATION:Barber Motorsports Park, Birmingham, AL
TRANSP:OPAQUE
SEQUENCE:2
UID:
DTSTAMP:20080126T011133Z
CATEGORIES:Car Show
DESCRIPTION:March 07-08, 2008: MACC is proud to present MACC Attack 2008 in conjunction with the Barber Motorsports Park and Vintage Museum. This facility provides a true sportscar fan with a beautiful backdrop encompassing scenic grounds and a world class race track while raising money and awareness for Magic Moments and the Children's Hospital of Alabama. \n\nSaturday morning we will present the &quot;Corvette and Hot Rod Show.&quot; The show is open to any Corvette as well as any Hot Rod. \n\<a href="nhttp://www.maccattack.net/" title="nhttp://www.maccattack.net/" rel="external">nhttp://www.maccattack.net/</a>
SUMMARY:MACC Attack - Birmingham, AL
PRIORITY:0
CLASS:PUBLIC
END:VEVENT
END:VCALENDAR
