BEGIN:VCALENDAR
CALSCALE:GREGORIAN
X-WR-TIMEZONE;VALUE=TEXT:GMT
PRODID:PEAK Corporation - piCal -
X-WR-CALNAME;VALUE=TEXT:Cars for the Cure - Lake Mary, FL
VERSION:2.0
METHOD:PUBLISH
BEGIN:VTIMEZONE
TZID:GMT
BEGIN:STANDARD
DTSTART:19390101T000000
TZOFFSETFROM:+0000
TZOFFSETTO:+0000
TZNAME:GMT
END:STANDARD
END:VTIMEZONE
BEGIN:VEVENT
DTSTART;VALUE=DATE:20080201
DTEND;VALUE=DATE:20080204
LOCATION:Colonial TownPark, Lake Mary, FL
TRANSP:OPAQUE
SEQUENCE:2
UID:
DTSTAMP:20080126T010321Z
CATEGORIES:Car Show
DESCRIPTION:The 4th Annual Cars for the Cure Auto Show extravaganza will be held the weekend of February 1st - 3rd 2008 at beautiful Colonial TownPark in Heathrow/Lake Mary, FL. \n\nThis charitable event, with proceeds going to support the American Lung Association of Florida, promises to be like none other.\n\<a href="nhttp://www.carsforthecure.com/" title="nhttp://www.carsforthecure.com/" rel="external">nhttp://www.carsforthecure.com/</a>
SUMMARY:Cars for the Cure - Lake Mary, FL
PRIORITY:0
CLASS:PUBLIC
END:VEVENT
END:VCALENDAR
