BEGIN:VCALENDAR
CALSCALE:GREGORIAN
X-WR-TIMEZONE;VALUE=TEXT:GMT
PRODID:PEAK Corporation - piCal -
X-WR-CALNAME;VALUE=TEXT:Guru Gathering - Cancelled - Sebring, FL
VERSION:2.0
METHOD:PUBLISH
BEGIN:VTIMEZONE
TZID:GMT
BEGIN:STANDARD
DTSTART:19390101T000000
TZOFFSETFROM:+0000
TZOFFSETTO:+0000
TZNAME:GMT
END:STANDARD
END:VTIMEZONE
BEGIN:VEVENT
DTSTART:20080314T190000Z
DTEND:20080315T220000Z
LOCATION:2907 Par Road, Sebring, FL
TRANSP:OPAQUE
SEQUENCE:5
UID:pical060-5a45b0c92efddf2b2397b673acf2afce
DTSTAMP:20080314T141128Z
CATEGORIES:Guru Gathering
DESCRIPTION:We've cancelled this event due to the lack of attendees.\n\nIf you will be at Sebring and would like to get together, please PM bogus or call Andy's cell at 310-561-2162.  We'll be at the track most of Friday and Saturday.
SUMMARY:Guru Gathering - Cancelled - Sebring, FL
PRIORITY:0
CLASS:PUBLIC
END:VEVENT
END:VCALENDAR
