BEGIN:VCALENDAR
CALSCALE:GREGORIAN
X-WR-TIMEZONE;VALUE=TEXT:GMT
PRODID:PEAK Corporation - piCal -
X-WR-CALNAME;VALUE=TEXT:Pampered Vette Detail Day
VERSION:2.0
METHOD:PUBLISH
BEGIN:VTIMEZONE
TZID:GMT
BEGIN:STANDARD
DTSTART:19390101T000000
TZOFFSETFROM:+0000
TZOFFSETTO:+0000
TZNAME:GMT
END:STANDARD
END:VTIMEZONE
BEGIN:VEVENT
DTSTART:20110716T070000Z
DTEND:20110716T130000Z
LOCATION:Smartwax HQ
TRANSP:OPAQUE
SEQUENCE:0
UID:pical060-9b9705ea7e917b627fde93a1beb756e8
DTSTAMP:20110601T192250Z
CATEGORIES:Social
DESCRIPTION:Look for flyer in the events section
SUMMARY:Pampered Vette Detail Day
PRIORITY:0
CLASS:PUBLIC
END:VEVENT
END:VCALENDAR
