BEGIN:VCALENDAR
CALSCALE:GREGORIAN
X-WR-TIMEZONE;VALUE=TEXT:GMT
PRODID:PEAK Corporation - piCal -
X-WR-CALNAME;VALUE=TEXT:West Coast Nationals - Pleasanton, CA,
VERSION:2.0
METHOD:PUBLISH
BEGIN:VTIMEZONE
TZID:GMT
BEGIN:STANDARD
DTSTART:19390101T000000
TZOFFSETFROM:+0000
TZOFFSETTO:+0000
TZNAME:GMT
END:STANDARD
END:VTIMEZONE
BEGIN:VEVENT
DTSTART;VALUE=DATE:20120824
DTEND;VALUE=DATE:20120827
LOCATION:Pleasanton, CA, Alameda County Fairgrounds 
TRANSP:OPAQUE
SEQUENCE:0
UID:pical060-1eba78f648ae399d6110a8a07f02b957
DTSTAMP:20120523T011844Z
CATEGORIES:Car Show
DESCRIPTION:\nEvent Hours\nFriday, August 24: 8am to 5pm\nSaturday, August 25: 8am to 5pm\nSunday, August 26: 8am to 3pm\n\<a href="nhttp://www.good-guys.com/events/2012-events/item/west-coast-nationals-2?category_id=2" title="nhttp://www.good-guys.com/events/2012-events/item/west-coast-nationals-2?category_id=2" rel="external">nhttp://www.good-guys.com/events/2012- ... nationals-2?category_id=2</a>
SUMMARY:West Coast Nationals - Pleasanton, CA,
PRIORITY:0
CLASS:PUBLIC
END:VEVENT
END:VCALENDAR
