BEGIN:VCALENDAR
CALSCALE:GREGORIAN
X-WR-TIMEZONE;VALUE=TEXT:GMT
PRODID:PEAK Corporation - piCal -
X-WR-CALNAME;VALUE=TEXT:Southwest Nationals - WestWorld of Scottsdale 
VERSION:2.0
METHOD:PUBLISH
BEGIN:VTIMEZONE
TZID:GMT
BEGIN:STANDARD
DTSTART:19390101T000000
TZOFFSETFROM:+0000
TZOFFSETTO:+0000
TZNAME:GMT
END:STANDARD
END:VTIMEZONE
BEGIN:VEVENT
DTSTART;VALUE=DATE:20121116
DTEND;VALUE=DATE:20121119
LOCATION:Scottsdale, AZ, WestWorld of Scottsdale 
TRANSP:OPAQUE
SEQUENCE:0
UID:pical060-e49589c111875ae68ec01a74ceb14b0b
DTSTAMP:20120523T012521Z
CATEGORIES:Car Show
DESCRIPTION:15th Southwest Nationals \n\nNovember 16, 17 & 18, 2012, Scottsdale, AZ, WestWorld of Scottsdale \n\n\nEvent Hours\nFriday, November 16: 8am to 5pm\nSaturday, November 17: 8am to 5pm\nSunday, November 18: 8am to 3pm \n\nRegistration Info\nVEHICLE REGISTRATION INFORMATION\n Goodguys Giant Car Shows are the place to be and definitely the place to be seen! For all vehicles 1972 and older, we offer the opportunity for you to participate in and display your vehicle at the show with a “Show & Shine Registration” good for all three days of the event. And for the car guys and gals who own a vehicle newer than our traditional 1972 cut-off date, we offer the all-new “Super Sunday Get-Together Registration” for all years of American made and/or powered vehicles on Sunday only. Both options come with space to display your car as well as a Goodguys Goodie Bag, Tickets to the event, Children’s Passes, the chance to win a Goodguys Award and more! \n\<a href="nhttp://www.good-guys.com/events/2012-events/item/november-16-17-18-2012-2?category_id=2" title="nhttp://www.good-guys.com/events/2012-events/item/november-16-17-18-2012-2?category_id=2" rel="external">nhttp://www.good-guys.com/events/2012- ... 7-18-2012-2?category_id=2</a>
SUMMARY:Southwest Nationals - WestWorld of Scottsdale 
PRIORITY:0
CLASS:PUBLIC
END:VEVENT
END:VCALENDAR
