BEGIN:VCALENDAR
CALSCALE:GREGORIAN
X-WR-TIMEZONE;VALUE=TEXT:GMT
PRODID:PEAK Corporation - piCal -
X-WR-CALNAME;VALUE=TEXT:Corvettes at Carlisle, PA
VERSION:2.0
METHOD:PUBLISH
BEGIN:VTIMEZONE
TZID:GMT
BEGIN:STANDARD
DTSTART:19390101T000000
TZOFFSETFROM:+0000
TZOFFSETTO:+0000
TZNAME:GMT
END:STANDARD
END:VTIMEZONE
BEGIN:VEVENT
DTSTART;VALUE=DATE:20140822
DTEND;VALUE=DATE:20140825
LOCATION:Carlisle, PA Fairgrounds 
TRANSP:OPAQUE
SEQUENCE:0
UID:pical060-d55a12a785d755d7f09c2cb87cece4cb
DTSTAMP:20140318T180702Z
CATEGORIES:Car Show
DESCRIPTION:Aug 22-24, 2014 \n Adult Admission: Daily Thu.- Sat. $15 / Sun $10 /  Event Pass $35 \n Gate Times: Thu.-Sat. 7am-6pm , Sun. 7am-3pm  \n\nThe largest and most fun-filled Corvette event in the world, the annual Corvettes at Carlisle event features more than 5,000 Corvettes representing all generations of America’s classic sports car. Corvette enthusiasm is contagious with participation in autocross, burnouts and the parade through historic downtown Carlisle. \n\nThe excitement continues with an incredible shopping experience, including a huge swap meet with a wide variety of vendors, an all-Corvette car corral, Manufacturers Midway and Installation Alley. \n\nRegistration for the 2014 Corvettes at Carlisle is open! Register  online or call 717-243-7855 today. Pre-registration discounts are available now through July 21, 2014.\n\nSee more at: <a href="http://www.carsatcarlisle.com/carlisle-events/corvettes-at-carlisle/default.aspx" title="http://www.carsatcarlisle.com/carlisle-events/corvettes-at-carlisle/default.aspx" rel="external">http://www.carsatcarlisle.com/carlisl ... -at-carlisle/default.aspx</a>
SUMMARY:Corvettes at Carlisle, PA
PRIORITY:0
CLASS:PUBLIC
END:VEVENT
END:VCALENDAR
