BEGIN:VCALENDAR
CALSCALE:GREGORIAN
X-WR-TIMEZONE;VALUE=TEXT:GMT
PRODID:PEAK Corporation - piCal -
X-WR-CALNAME;VALUE=TEXT:Corvettes at Carlisle
VERSION:2.0
METHOD:PUBLISH
BEGIN:VTIMEZONE
TZID:GMT
BEGIN:STANDARD
DTSTART:19390101T000000
TZOFFSETFROM:+0000
TZOFFSETTO:+0000
TZNAME:GMT
END:STANDARD
END:VTIMEZONE
BEGIN:VEVENT
DTSTART:20180823T100000Z
DTEND:20180823T180000Z
LOCATION:Carlisle, PA
TRANSP:OPAQUE
SEQUENCE:2
UID:pical060-298afdba060f4ad8c3334a5c3d094152
DTSTAMP:20180412T212218Z
CATEGORIES:Car Show
DESCRIPTION:<a href="http://www.carlisleevents.com/carlisle-events/corvettes-at-carlisle/default.aspx" title="http://www.carlisleevents.com/carlisle-events/corvettes-at-carlisle/default.aspx" rel="external">http://www.carlisleevents.com/carlisl ... -at-carlisle/default.aspx</a>\n\nAug 23-26, 2018 \nAdult Admission: (Per Person/No Vehicle) - $20 Daily Thursday-Saturday / $10 Daily Sunday \nAdult Admission: (Per Person/No Vehicle) - Weekend Pass: $40 \nFun Field Registration (Two People/Vehicle): $67.50 Prior to July 23, 2018 \nCorvette Only Parking (Vehicle Only) $10 Daily / $5 Sunday \nKids 12 and Under FREE \nEvent Hours Thur: 10am-6pm , Fri-Sat: 7am-6pm , Sun: 9am-12pm\n\nThe largest and most fun-filled Corvette event in the world, the annual Corvettes at Carlisle event features more than 5,000 Corvettes representing all generations of America’s classic sports car. Corvette enthusiasm is contagious with participation in autocross, burnouts and the parade through historic downtown Carlisle. The excitement continues with an incredible shopping experience, including a huge swap meet with a wide variety of vendors, an all-Corvette car corral, Manufacturers Midway and Installation Alley.\n\nRegistration for this year's Corvettes at Carlisle is open! Register online or call 717-243-7855 today. Pre-registration discounts are available!
SUMMARY:Corvettes at Carlisle
PRIORITY:0
CLASS:PUBLIC
END:VEVENT
END:VCALENDAR
